BEGIN:VCALENDAR
VERSION:2.0
PRODID:-//Formation professionnelle · Alternance &amp; formation continue - ECPv6.15.18//NONSGML v1.0//EN
CALSCALE:GREGORIAN
METHOD:PUBLISH
X-WR-CALNAME:Formation professionnelle · Alternance &amp; formation continue
X-ORIGINAL-URL:https://formation-pro.unicaen.fr
X-WR-CALDESC:Évènements pour Formation professionnelle · Alternance &amp; formation continue
REFRESH-INTERVAL;VALUE=DURATION:PT1H
X-Robots-Tag:noindex
X-PUBLISHED-TTL:PT1H
BEGIN:VTIMEZONE
TZID:Europe/Paris
BEGIN:DAYLIGHT
TZOFFSETFROM:+0100
TZOFFSETTO:+0200
TZNAME:CEST
DTSTART:20230326T010000
END:DAYLIGHT
BEGIN:STANDARD
TZOFFSETFROM:+0200
TZOFFSETTO:+0100
TZNAME:CET
DTSTART:20231029T010000
END:STANDARD
BEGIN:DAYLIGHT
TZOFFSETFROM:+0100
TZOFFSETTO:+0200
TZNAME:CEST
DTSTART:20240331T010000
END:DAYLIGHT
BEGIN:STANDARD
TZOFFSETFROM:+0200
TZOFFSETTO:+0100
TZNAME:CET
DTSTART:20241027T010000
END:STANDARD
BEGIN:DAYLIGHT
TZOFFSETFROM:+0100
TZOFFSETTO:+0200
TZNAME:CEST
DTSTART:20250330T010000
END:DAYLIGHT
BEGIN:STANDARD
TZOFFSETFROM:+0200
TZOFFSETTO:+0100
TZNAME:CET
DTSTART:20251026T010000
END:STANDARD
END:VTIMEZONE
BEGIN:VEVENT
DTSTART;TZID=Europe/Paris:20240127T093000
DTEND;TZID=Europe/Paris:20240127T170000
DTSTAMP:20260424T161815
CREATED:20231218T155844Z
LAST-MODIFIED:20240904T073356Z
UID:48234-1706347800-1706374800@formation-pro.unicaen.fr
SUMMARY:Salon de l'apprentissage & de l'alternance 2024
DESCRIPTION:Vous projetez d’étudier en alternance\, mais vous ne savez pas où ni comment chercher une formation et un contrat. Le salon de l’apprentissage\, de l’alternance et des métiers est LE rendez-vous à ne pas manquer ! \n\n\n\nVous y rencontrerez des experts de l’alternance qui vous donneront tous les conseils pour trouver votre formation et vous démarquer auprès des recruteurs. Du sur-mesure… et sur invitation gratuite ! \n\n\n\nCette année encore\, ce sera l’occasion de venir à la rencontre de l’université de Caen Normandie\, et de l’équipe du Service universitaire de formation continue et d’apprentissage. Avec un catalogue de près de 300 formations en alternance et en formation continue\, notre établissement est un acteur majeur en Normandie de la formation professionnelle dans le supérieur. \n\n\n\nDécouvrez dès à présent le programme des conférences\, les inscriptions et biens d’autres informations utiles.
URL:https://formation-pro.unicaen.fr/evenement/salon-de-lapprentissage-de-lalternance-2024/
LOCATION:Caen · Centre de Congrès\, Centre de Congrès\, 13 Avenue Albert Sorel\, Caen\, 14000\, France
CATEGORIES:Rencontre
ATTACH;FMTTYPE=image/png:https://formation-pro.unicaen.fr/wp-content/uploads/sites/7/2023/12/Salon-LEtudiant-Apprentissage-CAEN-2024-1-1.png
END:VEVENT
END:VCALENDAR