BEGIN:VCALENDAR
VERSION:2.0
PRODID:-//Formation professionnelle · Alternance &amp; formation continue - ECPv6.15.18//NONSGML v1.0//EN
CALSCALE:GREGORIAN
METHOD:PUBLISH
X-WR-CALNAME:Formation professionnelle · Alternance &amp; formation continue
X-ORIGINAL-URL:https://formation-pro.unicaen.fr
X-WR-CALDESC:Évènements pour Formation professionnelle · Alternance &amp; formation continue
REFRESH-INTERVAL;VALUE=DURATION:PT1H
X-Robots-Tag:noindex
X-PUBLISHED-TTL:PT1H
BEGIN:VTIMEZONE
TZID:Europe/Paris
BEGIN:DAYLIGHT
TZOFFSETFROM:+0100
TZOFFSETTO:+0200
TZNAME:CEST
DTSTART:20220327T010000
END:DAYLIGHT
BEGIN:STANDARD
TZOFFSETFROM:+0200
TZOFFSETTO:+0100
TZNAME:CET
DTSTART:20221030T010000
END:STANDARD
BEGIN:DAYLIGHT
TZOFFSETFROM:+0100
TZOFFSETTO:+0200
TZNAME:CEST
DTSTART:20230326T010000
END:DAYLIGHT
BEGIN:STANDARD
TZOFFSETFROM:+0200
TZOFFSETTO:+0100
TZNAME:CET
DTSTART:20231029T010000
END:STANDARD
BEGIN:DAYLIGHT
TZOFFSETFROM:+0100
TZOFFSETTO:+0200
TZNAME:CEST
DTSTART:20240331T010000
END:DAYLIGHT
BEGIN:STANDARD
TZOFFSETFROM:+0200
TZOFFSETTO:+0100
TZNAME:CET
DTSTART:20241027T010000
END:STANDARD
END:VTIMEZONE
BEGIN:VEVENT
DTSTART;TZID=Europe/Paris:20231114T133000
DTEND;TZID=Europe/Paris:20231114T180000
DTSTAMP:20260425T201313
CREATED:20231010T080037Z
LAST-MODIFIED:20231031T161322Z
UID:48042-1699968600-1699984800@formation-pro.unicaen.fr
SUMMARY:Forum OSE : Objectif – Stages – Emplois
DESCRIPTION:Vous recherchez un stage\, une alternance ou un emploi ?Vous souhaitez développer votre réseau professionnel ? \n\n\n\nMardi 14 novembre\, de 13h30 à 18h\, de nombreuses entreprises locales et nationales seront réunies en un lieu unique\, alors venez les rencontrer et échangez avec elles ! C’est aussi l’occasion de faire relire vos CV et obtenir les conseils de professionnels. \n\n\n\nLes différents espaces du forum\n\n\n\nEspace entreprises :\n\n\n\nStands entreprises : de nombreux partenaires professionnels déjà inscrits (Caisse d’épargne\, GANIL\, ROVAL Cosmétiques\, Laboratoire UNITHER…). Liste complète à découvrir sur le Career center UNICAEN. \n\n\n\nMini-conférences (programmées toutes les 30 minutes) :  \n\n\n\n\n14h : EDF\n\n\n\n14h30 : Compagnie Régionale des Commissaires aux Comptes de Normandie \n\n\n\n15h : AREA Normandie (filière agro-alimentaire)\, Danone et Isigny-Sainte-Mère \n\n\n\n16h : L’Oréal Paris\n\n\n\n16h30 : Normandie Web Xperts (filière numérique)\n\n\n\n17h : Normandie AeroEspace (filière aéronautique\, spatial\, défense et sécurité)\n\n\n\n17h30 : Logistique Seine-Normandie (filière supply chain)\n\n\n\n\nEspace international\n\n\n\nConseils\, stages\, CV en anglais. \n\n\n\nEspaces conseils \n\n\n\nApprentissage\, coaching CV. \n\n\n\nÉdition de janvier 2023
URL:https://formation-pro.unicaen.fr/evenement/forum-ose-objectif-stages-emplois-2/
CATEGORIES:Orientation - Insertion,Université
ATTACH;FMTTYPE=image/jpeg:https://formation-pro.unicaen.fr/wp-content/uploads/sites/7/2023/10/ACTU-WP-OSE-nov-2023.jpg
END:VEVENT
END:VCALENDAR