BEGIN:VCALENDAR
VERSION:2.0
PRODID:-//Formation professionnelle · Alternance &amp; formation continue - ECPv6.15.18//NONSGML v1.0//EN
CALSCALE:GREGORIAN
METHOD:PUBLISH
X-WR-CALNAME:Formation professionnelle · Alternance &amp; formation continue
X-ORIGINAL-URL:https://formation-pro.unicaen.fr
X-WR-CALDESC:Évènements pour Formation professionnelle · Alternance &amp; formation continue
REFRESH-INTERVAL;VALUE=DURATION:PT1H
X-Robots-Tag:noindex
X-PUBLISHED-TTL:PT1H
BEGIN:VTIMEZONE
TZID:Europe/Paris
BEGIN:DAYLIGHT
TZOFFSETFROM:+0100
TZOFFSETTO:+0200
TZNAME:CEST
DTSTART:20250330T010000
END:DAYLIGHT
BEGIN:STANDARD
TZOFFSETFROM:+0200
TZOFFSETTO:+0100
TZNAME:CET
DTSTART:20251026T010000
END:STANDARD
BEGIN:DAYLIGHT
TZOFFSETFROM:+0100
TZOFFSETTO:+0200
TZNAME:CEST
DTSTART:20260329T010000
END:DAYLIGHT
BEGIN:STANDARD
TZOFFSETFROM:+0200
TZOFFSETTO:+0100
TZNAME:CET
DTSTART:20261025T010000
END:STANDARD
BEGIN:DAYLIGHT
TZOFFSETFROM:+0100
TZOFFSETTO:+0200
TZNAME:CEST
DTSTART:20270328T010000
END:DAYLIGHT
BEGIN:STANDARD
TZOFFSETFROM:+0200
TZOFFSETTO:+0100
TZNAME:CET
DTSTART:20271031T010000
END:STANDARD
END:VTIMEZONE
BEGIN:VEVENT
DTSTART;TZID=Europe/Paris:20260124T093000
DTEND;TZID=Europe/Paris:20260124T170000
DTSTAMP:20260419T191046
CREATED:20260112T073402Z
LAST-MODIFIED:20260116T073428Z
UID:89105-1769247000-1769274000@formation-pro.unicaen.fr
SUMMARY:Salon de l'Étudiant formations et recrutement en alternance - Caen 2026
DESCRIPTION:Le Salon de l’Étudiant formations et recrutement en alternance se déroulera le samedi 24 janvier 2026\, à Caen\, Parc des expositions. L’université de Caen Normandie sera présente et vous accueillera sur son stand afin de vous présenter l’ensemble de son offre de formation en alternance : plus de 80 formations du bac +2 au bac +5 ! Venez nous rencontrer\, seul ou en famille\, au cours de cette journée ! \n\n\n\nL’espace de l’université\n\n\n\nÉchangez sur votre projet d’étude avec les professionnels présents tout au long de la journée\, ils pourront vous orienter vers la ou les formations adaptées à votre profil. \n\n\n\nL’université de Caen Normandie\, c’est plus de 80 formations ouvertes en alternance : contrat d’apprentissage et/ou contrat de professionnalisation. Découvrez les différents domaines de formation dans lesquels nous proposons ce mode d’apprentissage : assurance\, banque\, finance\, comptabilité\, gestion\, management\, commerce\, marketing\, informatique\, logistique\, industrie\, agroalimentaire\, BTP\, urbanisme\, qualité\, environnement\, santé… \n\n\n\nDes formations portées par nos écoles et instituts : ESIX Normandie (École supérieure d’ingénieurs)\, IAE Caen (École universitaire de management) et IUT Grand Ouest Normandie\, mais également par les UFR Droit\, AES et administration publique\, UFR HSS\, UFR des Sciences\, UFR SEGGAT et UFR STAPS.  \n\n\n\nProgramme des conférences \n\n\n\n\n10h30 – L’alternance\, pour qui ? Comment ?L’alternance n’est pas une voie réservée aux “mauvais élèves” ou aux métiers manuels ! Ces études exigeantes préparent du CAP au bac +5 si tant est que l’on soit motivé et investi. Comment s’organisent ces études et surtout : sont-elles faites pour vous ?\n\n\n\n\n\n11h30 – CV\, lettre de motivation : bien construire ses outils de candidatureQue mettre dans un CV et valoriser son expérience\, aussi minime soit-elle ? La lettre de motivation est-elle indispensable ? Comment la rédiger ? Les pros en plateau vous donneront des clés pour réaliser des outils de candidatures pertinents.\n\n\n\n14h00 – Bien s’organiser pour décrocher son contratPar où commencer ses recherches ? Auprès de qui ou de quel support s’informer sur les recrutements des entreprises ? Comment les démarcher et faire que sa candidature débouche sur un entretien ? Zoom sur les étapes qui jalonnent la recherche d’entreprise.\n\n\n\n15h – Entretiens : conseils pour se préparer et se démarquerFélicitations\, vous avez enfin décroché un entretien ! Peut-être même le premier de votre vie professionnelle… Comment se passe un entretien ? Comment s’habiller ? Quelles questions poser au recruteur ? Pas de panique\, nos intervenants vous transmettent leurs conseils et astuces afin de préparer vos entretiens le plus sereinement possible.\n\n\n\n\nPréparez votre visite\n\n\n\n\nCatalogue des formations en alternance UNICAEN\n\n\n\nSite de l’Etudiant
URL:https://formation-pro.unicaen.fr/evenement/salon-de-letudiant-formations-et-recrutement-en-alternance-caen-2026/
LOCATION:Caen · Parc des expositions\, Parc des Expositions de Caen\, 17 Rue Joseph Philippon\, Caen\, 14000\, France
CATEGORIES:Formation,Orientation - Insertion
ATTACH;FMTTYPE=image/jpeg:https://formation-pro.unicaen.fr/wp-content/uploads/sites/7/2026/01/2026-01-24_salon_etudiant_alternance_caen_vignette_web.jpg
END:VEVENT
END:VCALENDAR