BEGIN:VCALENDAR
VERSION:2.0
PRODID:-//Formation professionnelle · Alternance &amp; formation continue - ECPv6.15.18//NONSGML v1.0//EN
CALSCALE:GREGORIAN
METHOD:PUBLISH
X-WR-CALNAME:Formation professionnelle · Alternance &amp; formation continue
X-ORIGINAL-URL:https://formation-pro.unicaen.fr
X-WR-CALDESC:Évènements pour Formation professionnelle · Alternance &amp; formation continue
REFRESH-INTERVAL;VALUE=DURATION:PT1H
X-Robots-Tag:noindex
X-PUBLISHED-TTL:PT1H
BEGIN:VTIMEZONE
TZID:Europe/Paris
BEGIN:DAYLIGHT
TZOFFSETFROM:+0100
TZOFFSETTO:+0200
TZNAME:CEST
DTSTART:20230326T010000
END:DAYLIGHT
BEGIN:STANDARD
TZOFFSETFROM:+0200
TZOFFSETTO:+0100
TZNAME:CET
DTSTART:20231029T010000
END:STANDARD
BEGIN:DAYLIGHT
TZOFFSETFROM:+0100
TZOFFSETTO:+0200
TZNAME:CEST
DTSTART:20240331T010000
END:DAYLIGHT
BEGIN:STANDARD
TZOFFSETFROM:+0200
TZOFFSETTO:+0100
TZNAME:CET
DTSTART:20241027T010000
END:STANDARD
BEGIN:DAYLIGHT
TZOFFSETFROM:+0100
TZOFFSETTO:+0200
TZNAME:CEST
DTSTART:20250330T010000
END:DAYLIGHT
BEGIN:STANDARD
TZOFFSETFROM:+0200
TZOFFSETTO:+0100
TZNAME:CET
DTSTART:20251026T010000
END:STANDARD
END:VTIMEZONE
BEGIN:VEVENT
DTSTART;TZID=Europe/Paris:20240201T100000
DTEND;TZID=Europe/Paris:20240210T180000
DTSTAMP:20260424T074930
CREATED:20231214T075500Z
LAST-MODIFIED:20240126T093146Z
UID:48217-1706781600-1707588000@formation-pro.unicaen.fr
SUMMARY:Le Bus Tour Normandie 2024 
DESCRIPTION:L’université de Caen Normandie est de retour avec son “Bus Tour” dans l’Orne\, le Calvados et la Manche\, du 1er au 10 février 2024.   Au cours de son circuit – 9 dates / 10 villes – l’université présentera ses formations\, son ouverture à l’alternance dès le post-bac avec plus de 70 formations en contrat d’apprentissage ou en contrat de professionnalisation\, et son offre en formation continue pour les salariés et demandeurs d’emploi qui souhaitent se perfectionner\, se réorienter ou reprendre des études.   \n\n\n\nLe bus ouvrira ses portes du 1er au 10 février\, de 10h à 18h. Lycéens\, étudiants\, salariés\, demandeurs d’emploi et entreprises pourront y rencontrer nos conseillers en orientation\, en formation professionnelle et en insertion professionnelle.  \n\n\n\n\nLes entreprises locales sont conviées chaque jour à “l’apéro bus‘ness” de 11h30 à 13h00 pour parler recrutement : apprentis\, offres d’emplois\, problématiques RH et également formation continue. \n\n\n\nRappel : l’université de Caen Normandie propose plus de 75 formations en apprentissage et encore davantage en formation continue. \n\n\n\n\n\nItinéraire du Bus Tour 2024\n\n\n\n \n\n\n\n\n01/02 : L’Aigle – Place Fulbert de Feina\n\n\n\n02/02 : Lisieux – Place François Mitterrand\n\n\n\n03/02 : Caen – Université de Caen Normandie\, campus 1 | esplanade de la Paix\n\n\n\n05/02 : Cherbourg – Place Hébert\n\n\n\n06/02 : Coutances (matin) – Place Duhamel / Saint-Lô (après-midi) Esplanade de la médiathèque\n\n\n\n07/02 : Avranches – Place de la mairie\n\n\n\n08/02 : Vire – Place du Parvis de l’église  \n\n\n\n09/02 : Argentan – sur le parvis de l’hôtel de ville – place du Docteur Couinaud  \n\n\n\n10/02 : Alençon – Campus universitaire – Damigny à proximité du RU/MDE
URL:https://formation-pro.unicaen.fr/evenement/le-bus-tour-normandie-2024/
CATEGORIES:Bus Tour,Formation,Orientation - Insertion
ATTACH;FMTTYPE=image/png:https://formation-pro.unicaen.fr/wp-content/uploads/sites/7/2023/12/BUS_Tour_Visuels_web-2024-1.png
END:VEVENT
END:VCALENDAR